BEGIN:VCALENDAR
VERSION:2.0
PRODID:-//Squarespace Inc/Squarespace 6//v6//EN
BEGIN:VEVENT
UID:5808146320099eb094d9589f@squarespace.com
DTSTAMP:20200727T065313Z
DTSTART:20210421T230000Z
DTEND:20210422T060000Z
SUMMARY:Absolute Beginners CANBERRA
GEO:-35.332045;149.164088
LOCATION:Rydges Capital Hill\, 17 Canberra Avenue\, FORREST\, ACT\, 2609\, 
 Australia
END:VEVENT
END:VCALENDAR
