BEGIN:VCALENDAR
VERSION:2.0
PRODID:-//Squarespace Inc/Squarespace 6//v6//EN
BEGIN:VEVENT
UID:58081dc32e69cff7baf045cd@squarespace.com
DTSTAMP:20200727T071128Z
DTSTART:20210702T230000Z
DTEND:20210703T060000Z
SUMMARY:Organise Your Client in a Day ADELAIDE
GEO:-34.923225;138.606278
LOCATION:Pullman Adelaide\, 16 Hindmarsh Square\, Adelaide\, SA\, 5000\, Au
 stralia
END:VEVENT
END:VCALENDAR
