BEGIN:VCALENDAR
VERSION:2.0
PRODID:-//Squarespace Inc/Squarespace 6//v6//EN
BEGIN:VEVENT
UID:58081806e3df28efe8362e03@squarespace.com
DTSTAMP:20200727T071054Z
DTSTART:20210701T230000Z
DTEND:20210702T060000Z
SUMMARY:Next Step ADELAIDE
GEO:-34.923225;138.606278
LOCATION:Pullman Adelaide\, 16 Hindmarsh Square\, Adelaide\, SA\, 5000\, Au
 stralia
END:VEVENT
END:VCALENDAR
