BEGIN:VCALENDAR
VERSION:2.0
PRODID:-//Squarespace Inc/Squarespace 6//v6//EN
BEGIN:VEVENT
UID:57fd9b296a496336d4a9e978@squarespace.com
DTSTAMP:20200727T071011Z
DTSTART:20210630T230000Z
DTEND:20210701T060000Z
SUMMARY:Absolute Beginners ADELAIDE
GEO:-34.923225;138.606278
LOCATION:Pullman Adelaide\, 16 Hindmarsh Square\, Adelaide\, SA\, 5000\, Au
 stralia
END:VEVENT
END:VCALENDAR
