BEGIN:VCALENDAR
VERSION:2.0
PRODID:-//Squarespace Inc/Squarespace 6//v6//EN
BEGIN:VEVENT
UID:5d4e665f79425c00016cb090@squarespace.com
DTSTAMP:20200727T070728Z
DTSTART:20210618T230000Z
DTEND:20210619T060000Z
SUMMARY:Organise Your Client in a Day BRISBANE
GEO:-27.468317;153.023533
LOCATION:Pullman Brisbane\, Corner Ann & Roma St\, BRISBANE\, Australia
END:VEVENT
END:VCALENDAR
