BEGIN:VCALENDAR
VERSION:2.0
PRODID:-//Squarespace Inc/Squarespace 6//v6//EN
BEGIN:VEVENT
UID:5d4e65edaa513c00014d6eb2@squarespace.com
DTSTAMP:20200727T070703Z
DTSTART:20210617T230000Z
DTEND:20210618T060000Z
SUMMARY:Next Step BRISBANE
GEO:-27.468317;153.023533
LOCATION:Pullman Brisbane\, Corner Ann & Roma St\, Brisbane\, Australia
END:VEVENT
END:VCALENDAR
