BEGIN:VCALENDAR
VERSION:2.0
PRODID:-//Squarespace Inc/Squarespace 6//v6//EN
BEGIN:VEVENT
UID:5d4e64bcf3035200010dd267@squarespace.com
DTSTAMP:20200727T070617Z
DTSTART:20210616T230000Z
DTEND:20210617T060000Z
SUMMARY:Absolute Beginners BRISBANE
GEO:-27.468317;153.023533
LOCATION:Pullman Brisbane\, Corner Ann & Roma\, Brisbane\, Australia
END:VEVENT
END:VCALENDAR
