BEGIN:VCALENDAR
VERSION:2.0
PRODID:-//Squarespace Inc/Squarespace 6//v6//EN
BEGIN:VEVENT
UID:58081ded2e69cff7baf046f6@squarespace.com
DTSTAMP:20200727T070535Z
DTSTART:20210528T230000Z
DTEND:20210529T060000Z
SUMMARY:Organise Your Client in a Day PERTH
GEO:-31.959622;115.872075
LOCATION:Hyatt Regency Perth\, 150 Adelaide Terrace\, East Perth\, WA\, 600
 4\, Australia
END:VEVENT
END:VCALENDAR
