BEGIN:VCALENDAR
VERSION:2.0
PRODID:-//Squarespace Inc/Squarespace 6//v6//EN
BEGIN:VEVENT
UID:5808185b6b8f5b84fa9c6589@squarespace.com
DTSTAMP:20200727T070502Z
DTSTART:20210527T230000Z
DTEND:20210528T060000Z
SUMMARY:Next Step PERTH
GEO:-31.961182;115.873461
LOCATION:Hyatt Regency Perth\, 99 Adelaide Terrace\, East Perth\, WA\, 6004
 \, Australia
END:VEVENT
END:VCALENDAR
