BEGIN:VCALENDAR
VERSION:2.0
PRODID:-//Squarespace Inc/Squarespace 6//v6//EN
BEGIN:VEVENT
UID:57fd9c3bf5e2319c4dea95e6@squarespace.com
DTSTAMP:20200727T070421Z
DTSTART:20210526T230000Z
DTEND:20210527T060000Z
SUMMARY:Absolute Beginners PERTH
END:VEVENT
END:VCALENDAR
