BEGIN:VCALENDAR
VERSION:2.0
PRODID:-//Squarespace Inc/Squarespace 6//v6//EN
BEGIN:VEVENT
UID:5a70c766e4966bfd78ae5ffa@squarespace.com
DTSTAMP:20200727T070236Z
DTSTART:20210514T230000Z
DTEND:20210515T060000Z
SUMMARY:Organise Your Client in a Day AUCKLAND
GEO:-36.848332;174.76993
LOCATION:Pullman Hotel Auckland\, Corner Princes Street and Waterloo Quadra
 nt\, AUCKLAND\, New Zealand
END:VEVENT
END:VCALENDAR
