BEGIN:VCALENDAR
VERSION:2.0
PRODID:-//Squarespace Inc/Squarespace 6//v6//EN
BEGIN:VEVENT
UID:5a7066dc9140b7bad70f7627@squarespace.com
DTSTAMP:20200727T070146Z
DTSTART:20210513T230000Z
DTEND:20210514T060000Z
SUMMARY:Next Step AUCKLAND
GEO:-36.848332;174.76993
LOCATION:Pullman Hotel Auckland\, Corner Princes Street and Waterloo Quadra
 nt\, AUCKLAND\, New Zealand
END:VEVENT
END:VCALENDAR
