BEGIN:VCALENDAR
VERSION:2.0
PRODID:-//Squarespace Inc/Squarespace 6//v6//EN
BEGIN:VEVENT
UID:5a70660de4966b05b5091803@squarespace.com
DTSTAMP:20200727T070045Z
DTSTART:20210512T230000Z
DTEND:20210513T060000Z
SUMMARY:Absolute Beginners AUCKLAND
GEO:-36.848332;174.76993
LOCATION:Pullman Hotel Auckland\, Corner Princes Street and Waterloo Quadra
 nt\, AUCKLAND\, New Zealand
END:VEVENT
END:VCALENDAR
