BEGIN:VCALENDAR
VERSION:2.0
PRODID:-//Squarespace Inc/Squarespace 6//v6//EN
BEGIN:VEVENT
UID:5d5daf5da334370001cec51c@squarespace.com
DTSTAMP:20201005T014112Z
DTSTART:20210430T230000Z
DTEND:20210501T060000Z
SUMMARY:Organise Your Client in a Day MELBOURNE
GEO:-37.849809;144.978695
LOCATION:Pullman Albert Park\, 65 Queens Road\, Melbourne\, VIC\, 3004\, Au
 stralia
END:VEVENT
END:VCALENDAR
