BEGIN:VCALENDAR
VERSION:2.0
PRODID:-//Squarespace Inc/Squarespace 6//v6//EN
BEGIN:VEVENT
UID:5d5dae8b89653c00016a0cb6@squarespace.com
DTSTAMP:20201005T013934Z
DTSTART:20210428T230000Z
DTEND:20210429T060000Z
SUMMARY:Absolute Beginners MELBOURNE
GEO:-37.849809;144.978695
LOCATION:Pullman Albert Park\, 65 Queens Road\, Melbourne\, VIC\, 3004\, Au
 stralia
END:VEVENT
END:VCALENDAR
