BEGIN:VCALENDAR
VERSION:2.0
PRODID:-//Squarespace Inc/Squarespace 6//v6//EN
BEGIN:VEVENT
UID:58081e4ce6f2e1a9cae95da6@squarespace.com
DTSTAMP:20200727T065452Z
DTSTART:20210423T230000Z
DTEND:20210424T060000Z
SUMMARY:Organise Your Client in a Day CANBERRA
GEO:-35.332045;149.164088
LOCATION:Rydges Capital Hill\, 17 Canberra Avenue\, FORREST\, ACT\, 2609\, 
 Australia
END:VEVENT
END:VCALENDAR
