BEGIN:VCALENDAR
VERSION:2.0
PRODID:-//Squarespace Inc/Squarespace 6//v6//EN
BEGIN:VEVENT
UID:5ddb2107b53adb35ea9d67ee@squarespace.com
DTSTAMP:20201005T014609Z
DTSTART:20210326T220000Z
DTEND:20210327T050000Z
SUMMARY:Organise Your Client in a Day SYDNEY
GEO:-33.834847;151.208643
LOCATION:Rydges North Sydney\, 54 McLaren St\, North Sydney\, NSW\, 2060\, 
 Australia
END:VEVENT
END:VCALENDAR
