BEGIN:VCALENDAR
VERSION:2.0
PRODID:-//Squarespace Inc/Squarespace 6//v6//EN
BEGIN:VEVENT
UID:5ddb20b285e3643e17863e0a@squarespace.com
DTSTAMP:20201005T014503Z
DTSTART:20210325T220000Z
DTEND:20210326T050000Z
SUMMARY:Next Step SYDNEY
GEO:-33.838634;151.207114
LOCATION:Rydges North Sydney\, 54 McLaren St\, North Sydney\, NSW\, 2060\, 
 Australia
END:VEVENT
END:VCALENDAR
