BEGIN:VCALENDAR
VERSION:2.0
PRODID:-//Squarespace Inc/Squarespace 6//v6//EN
BEGIN:VEVENT
UID:5ddb202a455f406d50d7d9be@squarespace.com
DTSTAMP:20201005T014422Z
DTSTART:20210324T220000Z
DTEND:20210325T050000Z
SUMMARY:Absolute Beginners SYDNEY
GEO:-33.838634;151.207114
LOCATION:Rydges North Sydney\, 54 McLaren St\, North Sydney\, NSW\, 2060\, 
 Australia
END:VEVENT
END:VCALENDAR
