BEGIN:VCALENDAR
VERSION:2.0
PRODID:-//Squarespace Inc/Squarespace 6//v6//EN
BEGIN:VEVENT
UID:5d5daf0029449d00018460ce@squarespace.com
DTSTAMP:20201005T014012Z
DTSTART:20210429T230000Z
DTEND:20210430T060000Z
SUMMARY:Next Step MELBOURNE
GEO:-37.849809;144.978695
LOCATION:Pullman Albert Park\, 65 Queens Road\, Melbourne\, VIC\, 3004\, Au
 stralia
END:VEVENT
END:VCALENDAR
