BEGIN:VCALENDAR
VERSION:2.0
PRODID:-//Squarespace Inc/Squarespace 6//v6//EN
BEGIN:VEVENT
UID:5f7a786dc0d2cc549fdc9302@squarespace.com
DTSTAMP:20201223T061206Z
DTSTART:20210219T213000Z
DTEND:20210220T050000Z
SUMMARY:Absolute Beginners LIVE STREAM
GEO:-37.830158;144.980459
LOCATION:Online\, Australia
END:VEVENT
END:VCALENDAR
