BEGIN:VCALENDAR
VERSION:2.0
PRODID:-//Squarespace Inc/Squarespace 6//v6//EN
BEGIN:VEVENT
UID:5f1e7a51f6d4d94f956a7392@squarespace.com
DTSTAMP:20200727T071248Z
DTSTART:20200805T230000Z
DTEND:20200806T060000Z
SUMMARY:Absolute Beginners ONLINE
GEO:52.425213;-2.213558
LOCATION:ONLINE
END:VEVENT
END:VCALENDAR
