BEGIN:VCALENDAR
VERSION:2.0
PRODID:-//Squarespace Inc/Squarespace 6//v6//EN
BEGIN:VEVENT
UID:5d5dafd0b67f5f0001d45573@squarespace.com
DTSTAMP:20190821T210155Z
DTSTART:20190828T230000Z
DTEND:20190830T060000Z
SUMMARY:IOPO International Conference
GEO:-37.824384;144.950384
LOCATION:The IOPO International\, Aerial 17 Dukes Walk South Wharf VIC 3006
 \, South Wharf VIC 3006\, Australia
END:VEVENT
END:VCALENDAR
