BEGIN:VCALENDAR
VERSION:2.0
PRODID:-//Squarespace Inc/Squarespace 6//v6//EN
BEGIN:VEVENT
UID:5bbd577924a694a76a5ec3ab@squarespace.com
DTSTAMP:20190810T053422Z
DTSTART:20191122T220000Z
DTEND:20191123T050000Z
SUMMARY:Organise Your Client in a Day SYDNEY
GEO:-33.834847;151.208643
LOCATION:Rydges North Sydney\, 54 McLaren St\, North Sydney\, NSW\, 2060\, 
 Australia
END:VEVENT
END:VCALENDAR
