BEGIN:VCALENDAR
VERSION:2.0
PRODID:-//Squarespace Inc/Squarespace 6//v6//EN
BEGIN:VEVENT
UID:5bbd57388165f5c8985087d6@squarespace.com
DTSTAMP:20190810T053343Z
DTSTART:20191121T220000Z
DTEND:20191122T050000Z
SUMMARY:Next Step SYDNEY
GEO:-33.838634;151.207114
LOCATION:Rydges North Sydney\, 54 McLaren St\, North Sydney\, NSW\, 2060\, 
 Australia
END:VEVENT
END:VCALENDAR
