BEGIN:VCALENDAR
VERSION:2.0
PRODID:-//Squarespace Inc/Squarespace 6//v6//EN
BEGIN:VEVENT
UID:5bbd56dd24a694a76a5ebc1d@squarespace.com
DTSTAMP:20190810T053304Z
DTSTART:20191120T220000Z
DTEND:20191121T050000Z
SUMMARY:Absolute Beginners SYDNEY
GEO:-33.838634;151.207114
LOCATION:Rydges North Sydney\, 54 McLaren St\, North Sydney\, NSW\, 2060\, 
 Australia
END:VEVENT
END:VCALENDAR
