BEGIN:VCALENDAR
VERSION:2.0
PRODID:-//Squarespace Inc/Squarespace 6//v6//EN
BEGIN:VEVENT
UID:58081e32f5e231054f740af2@squarespace.com
DTSTAMP:20190821T205349Z
DTSTART:20190823T230000Z
DTEND:20190824T060000Z
SUMMARY:Organise Your Client in a Day MELBOURNE
GEO:-37.849809;144.978695
LOCATION:Pullman Albert Park\, 65 Queens Road\, Melbourne\, VIC\, 3004\, Au
 stralia
END:VEVENT
END:VCALENDAR
