BEGIN:VCALENDAR
VERSION:2.0
PRODID:-//Squarespace Inc/Squarespace 6//v6//EN
BEGIN:VEVENT
UID:580818f5b8a79b2b731f3df1@squarespace.com
DTSTAMP:20190821T205216Z
DTSTART:20190822T230000Z
DTEND:20190823T060000Z
SUMMARY:Next Step MELBOURNE
GEO:-37.849809;144.978695
LOCATION:Pullman Albert Park\, 65 Queens Road\, Melbourne\, VIC\, 3004\, Au
 stralia
END:VEVENT
END:VCALENDAR
