BEGIN:VCALENDAR
VERSION:2.0
PRODID:-//Squarespace Inc/Squarespace 6//v6//EN
BEGIN:VEVENT
UID:5808142959cc68e812742538@squarespace.com
DTSTAMP:20190821T205019Z
DTSTART:20190821T230000Z
DTEND:20190822T060000Z
SUMMARY:Absolute Beginners MELBOURNE
GEO:-37.849809;144.978695
LOCATION:Pullman Albert Park\, 65 Queens Road\, Melbourne\, VIC\, 3004\, Au
 stralia
END:VEVENT
END:VCALENDAR
