BEGIN:VCALENDAR
VERSION:2.0
PRODID:-//Squarespace Inc/Squarespace 6//v6//EN
BEGIN:VEVENT
UID:58081e0c2e69cff7baf04831@squarespace.com
DTSTAMP:20190302T113048Z
DTSTART:20190614T230000Z
DTEND:20190615T060000Z
SUMMARY:Organise Your Client in a Day GOLD COAST
GEO:-28.006215;153.428658
LOCATION:Watermark Hotel & Spa\, 3032 Surfers Paradise Boulevard\, Surfers 
 Paradise\, QLD\, 4217\, Australia
END:VEVENT
END:VCALENDAR
