BEGIN:VCALENDAR
VERSION:2.0
PRODID:-//Squarespace Inc/Squarespace 6//v6//EN
BEGIN:VEVENT
UID:58081899ff7c50ad5ad74a9e@squarespace.com
DTSTAMP:20190302T112949Z
DTSTART:20190613T230000Z
DTEND:20190614T060000Z
SUMMARY:Next Step GOLD COAST
GEO:-28.006215;153.428658
LOCATION:Watermark Hotel & Spa\, 3032 Surfers Paradise Boulevard\, Surfers 
 Paradise\, QLD\, 4217\, Australia
END:VEVENT
END:VCALENDAR
