BEGIN:VCALENDAR
VERSION:2.0
PRODID:-//Squarespace Inc/Squarespace 6//v6//EN
BEGIN:VEVENT
UID:57fd9b6e6a496336d4a9ebce@squarespace.com
DTSTAMP:20190302T112906Z
DTSTART:20190612T230000Z
DTEND:20190613T060000Z
SUMMARY:Absolute Beginners GOLD COAST
GEO:-28.006215;153.428658
LOCATION:Watermark Hotel & Spa Gold Coast\, 3032 Surfers Paradise Boulevard
 \, Surfers Paradise\, QLD\, 4217\, Australia
END:VEVENT
END:VCALENDAR
