BEGIN:VCALENDAR
VERSION:2.0
PRODID:-//Squarespace Inc/Squarespace 6//v6//EN
BEGIN:VEVENT
UID:5bb8481eb208fcdd65da96bb@squarespace.com
DTSTAMP:20190302T115708Z
DTSTART:20190317T220000Z
DTEND:20190318T050000Z
SUMMARY:Mental Health First Aid - Melbourne
GEO:-37.815561;145.11987
LOCATION:Box Hill RSL\, 26-28 Nelson Road\, Box Hill\, VIC\, 3128\, Austral
 ia
END:VEVENT
END:VCALENDAR
