BEGIN:VCALENDAR
VERSION:2.0
PRODID:-//Squarespace Inc/Squarespace 6//v6//EN
BEGIN:VEVENT
UID:5bb84a7d71c10bb3c3e591b0@squarespace.com
DTSTAMP:20190302T115906Z
DTSTART:20190313T214500Z
DTEND:20190314T044500Z
SUMMARY:Mental Health First Aid - Canberra
GEO:-35.235882;149.068036
LOCATION:118 Emu Bank\, Belconnen\, ACT\, 2617\, Australia
END:VEVENT
END:VCALENDAR
