BEGIN:VCALENDAR
VERSION:2.0
PRODID:-//Squarespace Inc/Squarespace 6//v6//EN
BEGIN:VEVENT
UID:5bb8419d104c7bda55aad518@squarespace.com
DTSTAMP:20190302T115149Z
DTSTART:20190314T223000Z
DTEND:20190315T053000Z
SUMMARY:Mental Health First Aid - Sydney
GEO:-33.828527;151.083487
LOCATION:The Connection\,\, 30 Shoreline Drive\, Rhodes\, NSW\, 2138\, Aust
 ralia
END:VEVENT
END:VCALENDAR
