BEGIN:VCALENDAR
VERSION:2.0
PRODID:-//Squarespace Inc/Squarespace 6//v6//EN
BEGIN:VEVENT
UID:5bb845d89140b7240e85a75a@squarespace.com
DTSTAMP:20190302T115511Z
DTSTART:20190307T213000Z
DTEND:20190309T053000Z
SUMMARY:Mental Health First Aid - Brisbane
GEO:-27.468602;153.044354
LOCATION:Merthyr Road Uniting Church Brookes Room\, 52 Merthyr Road\, New F
 arm\, QLD\, 4005\, Australia
END:VEVENT
END:VCALENDAR
