BEGIN:VCALENDAR
VERSION:2.0
PRODID:-//Squarespace Inc/Squarespace 6//v6//EN
BEGIN:VEVENT
UID:5aaf91c670a6adbf54e80491@squarespace.com
DTSTAMP:20181010T013547Z
DTSTART:20181012T220000Z
DTEND:20181013T050000Z
SUMMARY:Organise Your Client in a Day SYDNEY
GEO:-33.834847;151.208643
LOCATION:Rydges North Sydney\, 54 McLaren St\, North Sydney\, NSW\, 2060\, 
 Australia
END:VEVENT
END:VCALENDAR
