BEGIN:VCALENDAR
VERSION:2.0
PRODID:-//Squarespace Inc/Squarespace 6//v6//EN
BEGIN:VEVENT
UID:5aaf91832b6a28af3ee073bb@squarespace.com
DTSTAMP:20181010T013447Z
DTSTART:20181011T220000Z
DTEND:20181012T050000Z
SUMMARY:Next Step SYDNEY
GEO:-33.838634;151.207114
LOCATION:Rydges North Sydney\, 54 McLaren St\, North Sydney\, NSW\, 2060\, 
 Australia
END:VEVENT
END:VCALENDAR
