BEGIN:VCALENDAR
VERSION:2.0
PRODID:-//Squarespace Inc/Squarespace 6//v6//EN
BEGIN:VEVENT
UID:5aaf912970a6adbf54e7f70a@squarespace.com
DTSTAMP:20181010T013317Z
DTSTART:20181010T220000Z
DTEND:20181011T050000Z
SUMMARY:Absolute Beginners SYDNEY
GEO:-33.838634;151.207114
LOCATION:Rydges North Sydney\, 54 McLaren St\, North Sydney\, NSW\, 2060\, 
 Australia
END:VEVENT
END:VCALENDAR
