BEGIN:VCALENDAR
VERSION:2.0
PRODID:-//Squarespace Inc/Squarespace 6//v6//EN
BEGIN:VEVENT
UID:55b043cfe4b051d5c646ae45@squarespace.com
DTSTAMP:20191125T004415Z
DTSTART:20150915T040000Z
DTEND:20150917T040000Z
SUMMARY:Organiser's Boot Camp
GEO:-34.725793;150.68404
LOCATION:The Drawing Rooms of Berry\, 21 Wattamolla Road\, Berry\, NSW\, 25
 35\, Australia
END:VEVENT
END:VCALENDAR
